BEGIN:VCALENDAR
VERSION:2.0
METHOD:PUBLISH
BEGIN:VEVENT
SUMMARY:Deutsch–Albanische Wirtschaftskonferenz
CLASS:PUBLIC
DESCRIPTION:Link: https://www.gtai-exportguide.de/de/events/deutsch-albanische-wirtschaftskonferenz-1992338
\nDie DIHK veranstaltet gemeinsam mit dem Ost Ausschuss der Deutschen Wirtschaft, dem BGA und der DAW die Deutsch Albanische Wirtschaftskonferenz 2026 im Haus der Deutschen Wirtschaft in Berlin. \nIm Fokus stehen Albaniens EU Annäherung sowie Chancen in Infrastruktur, Energie, Industrie, ICT, Handel, Tourismus und Landwirtschaft. Keynotes, Panels, Workshops, Networking und hochrangige Regierungsvertreter. 
X-ALT-DESC;FMTTYPE=text/html:<HTML><HEAD><TITLE></TITLE><BODY><FONT SIZE=2>Link: https://www.gtai-exportguide.de/de/events/deutsch-albanische-wirtschaftskonferenz-1992338<p>Die DIHK veranstaltet gemeinsam mit dem Ost Ausschuss der Deutschen Wirtschaft, dem BGA und der DAW die Deutsch Albanische Wirtschaftskonferenz 2026 im Haus der Deutschen Wirtschaft in Berlin. <br/>Im Fokus stehen Albaniens EU Annäherung sowie Chancen in Infrastruktur, Energie, Industrie, ICT, Handel, Tourismus und Landwirtschaft. Keynotes, Panels, Workshops, Networking und hochrangige Regierungsvertreter. </p></FONT></BODY></HTML>
LOCATION:Berlin
CREATED:20260421T121718Z
DTSTAMP:20211029T152739Z
DTSTART;VALUE=DATE:20260430
END:VEVENT
END:VCALENDAR
