BEGIN:VCALENDAR
VERSION:2.0
METHOD:PUBLISH
BEGIN:VEVENT
SUMMARY:Dokumentäres Auslandsgeschäft (Einsteiger)
CLASS:PUBLIC
DESCRIPTION:Link: https://www.gtai-exportguide.de/de/events/dokumentaeres-auslandsgeschaeft-einsteiger--1987902
\nDer Schritt über die Grenzen führt in unbekanntes Terrain mit teilweise besonderen Gesetzmäßigkeiten. Für Unternehmen, die ihre Waren an Kunden im Ausland liefern oder von dort beziehen, gehören komplexe und mit Risiken behaftete Handelsgeschäfte oftmals zum Alltag. Um beim Waren- und Zahlungsverkehr immer auf der sicheren Seite zu sein können Außenhandelsrisiken mit verschiedenen Instrumenten erfolgreich abgesichert werden.\nIn diesem Seminar lernen Sie die international üblichen Liefer- und Zahlungsbedingungen kennen. Das Dokumentenakkreditiv als wichtigstes Instrument der Zahlungssicherung im internationalen Geschäft wird von Grund auf besprochen und erläutert.\nEin Schwerpunkt sind die üblichen Dokumente unter Akkreditiven und deren richtige Erstellung. Fallbeispiele und Praxisfälle sowie aktuelle Themen wie Länderbesonderheiten, Boykott, Sanktionen und Akkreditiv-Sonderformen runden dieses Seminar ab.
X-ALT-DESC;FMTTYPE=text/html:<HTML><HEAD><TITLE></TITLE><BODY><FONT SIZE=2>Link: https://www.gtai-exportguide.de/de/events/dokumentaeres-auslandsgeschaeft-einsteiger--1987902<p>Der Schritt über die Grenzen führt in unbekanntes Terrain mit teilweise besonderen Gesetzmäßigkeiten. Für Unternehmen, die ihre Waren an Kunden im Ausland liefern oder von dort beziehen, gehören komplexe und mit Risiken behaftete Handelsgeschäfte oftmals zum Alltag. Um beim Waren- und Zahlungsverkehr immer auf der sicheren Seite zu sein können Außenhandelsrisiken mit verschiedenen Instrumenten erfolgreich abgesichert werden.</p><p>In diesem Seminar lernen Sie die international üblichen Liefer- und Zahlungsbedingungen kennen. Das Dokumentenakkreditiv als wichtigstes Instrument der Zahlungssicherung im internationalen Geschäft wird von Grund auf besprochen und erläutert.</p><p>Ein Schwerpunkt sind die üblichen Dokumente unter Akkreditiven und deren richtige Erstellung. Fallbeispiele und Praxisfälle sowie aktuelle Themen wie Länderbesonderheiten, Boykott, Sanktionen und Akkreditiv-Sonderformen runden dieses Seminar ab.</p></FONT></BODY></HTML>
LOCATION:Nürnberg
CREATED:20260331T133417Z
DTSTAMP:20211029T154043Z
DTSTART;VALUE=DATE:20261006
END:VEVENT
END:VCALENDAR
